BEGIN:VCALENDAR
VERSION:2.0
PRODID:-//hacksw/handcal//NONSGML v1.0//EN
BEGIN:VEVENT
UID:c45c7ba368a9cab631c60de67163d0fc@business-services.heise.de
DTSTAMP:20260424T072055Z
DTSTART:20260521T090000Z
DTEND:20260521T100000Z
DESCRIPTION:Wie können Unternehmen NIS2-Anforderungen mit Zero-Trust-Strategien effektiv umsetzen? Und welche Rolle spielt ein Managed Security Operations Center (SOC) dabei? Die Antwort auf diese Fragen bekommen Sie im Live-Webcast am 21.5. um 11 Uhr.
SUMMARY:Zero Trust und NIS2 – So meistern Unternehmen neue Sicherheitsanforderungen
LOCATION:https://business-services.heise.de/system/detailseite/beitrag/zero-trust-und-nis2-so-meistern-unternehmen-neue-sicherheitsanforderungen-5048?mlog=1&no_cache=1
END:VEVENT
END:VCALENDAR