BEGIN:VCALENDAR
VERSION:2.0
PRODID:-//hacksw/handcal//NONSGML v1.0//EN
BEGIN:VEVENT
UID:9e1963b267101bdb531673668b409d0d@business-services.heise.de
DTSTAMP:20260421T164334Z
DTSTART:20260526T090000Z
DTEND:20260526T100000Z
DESCRIPTION:Künstliche Intelligenz entfaltet ihren echten Mehrwert erst dann, wenn sie konkret in Geschäftsprozesse integriert wird. Im Webcast am 26. Mai werden Sie erfahren, wie Sie mit Microsoft Copilot Studio ohne große Programmierkenntnisse KI-Agenten und KI-Assistenten entwickeln können. Highlight: Bau eines KI-Chatbots live in 12 Minuten!
SUMMARY:In wenigen Schritten zur eigenen KI – Best Practices mit Copilot Studio
LOCATION:https://business-services.heise.de/system/detailseite/beitrag/in-wenigen-schritten-zur-eigenen-ki-best-practices-mit-copilot-studio-5047?mlog=1&no_cache=1
END:VEVENT
END:VCALENDAR